BEGIN:VCALENDAR
VERSION:2.0
PRODID:-//Environmental Defenders of McHenry County - ECPv6.15.17//NONSGML v1.0//EN
CALSCALE:GREGORIAN
METHOD:PUBLISH
X-ORIGINAL-URL:https://mcdef.org
X-WR-CALDESC:Events for Environmental Defenders of McHenry County
REFRESH-INTERVAL;VALUE=DURATION:PT1H
X-Robots-Tag:noindex
X-PUBLISHED-TTL:PT1H
BEGIN:VTIMEZONE
TZID:America/Chicago
BEGIN:DAYLIGHT
TZOFFSETFROM:-0600
TZOFFSETTO:-0500
TZNAME:CDT
DTSTART:20210314T080000
END:DAYLIGHT
BEGIN:STANDARD
TZOFFSETFROM:-0500
TZOFFSETTO:-0600
TZNAME:CST
DTSTART:20211107T070000
END:STANDARD
BEGIN:DAYLIGHT
TZOFFSETFROM:-0600
TZOFFSETTO:-0500
TZNAME:CDT
DTSTART:20220313T080000
END:DAYLIGHT
BEGIN:STANDARD
TZOFFSETFROM:-0500
TZOFFSETTO:-0600
TZNAME:CST
DTSTART:20221106T070000
END:STANDARD
BEGIN:DAYLIGHT
TZOFFSETFROM:-0600
TZOFFSETTO:-0500
TZNAME:CDT
DTSTART:20230312T080000
END:DAYLIGHT
BEGIN:STANDARD
TZOFFSETFROM:-0500
TZOFFSETTO:-0600
TZNAME:CST
DTSTART:20231105T070000
END:STANDARD
BEGIN:DAYLIGHT
TZOFFSETFROM:-0600
TZOFFSETTO:-0500
TZNAME:CDT
DTSTART:20240310T080000
END:DAYLIGHT
BEGIN:STANDARD
TZOFFSETFROM:-0500
TZOFFSETTO:-0600
TZNAME:CST
DTSTART:20241103T070000
END:STANDARD
END:VTIMEZONE
BEGIN:VEVENT
DTSTART;TZID=America/Chicago:20230924T130000
DTEND;TZID=America/Chicago:20230924T170000
DTSTAMP:20260423T111513
CREATED:20230731T202254Z
LAST-MODIFIED:20230731T202254Z
UID:3606-1695560400-1695574800@mcdef.org
SUMMARY:The Environmental Defenders' Annual Bike Ride
DESCRIPTION:Sunday\, September 24  \nMeet at Towne Park\, Algonquin for RT ride \n1PM \nJoin the Environmental Defenders’ Transportation Action Team on a scenic bike ride Sunday\, September 24 starting at Towne Park\, Algonquin at 1PM\, and looping through Lake in the Hills and Crystal Lake before returning to Algonquin for a taste of local beer at Scorched Earth Brewery. The route\, including the relatively new Randall Road underpass\, is 15 miles long\, but shorter (7\, 8\, 11 mile) options are possible along portions of the loop.
URL:https://mcdef.org/event/the-environmental-defenders-annual-bike-ride-2/
LOCATION:Towne Park\, 100 Jefferson St\, Algonquin\, IL\, 60102\, United States
CATEGORIES:Member Events,Outdoor Events,Outings,Transportation
ATTACH;FMTTYPE=image/png:https://mcdef.org/wp-content/uploads/2023/07/IMG-0023-e1690834939835.png
END:VEVENT
BEGIN:VEVENT
DTSTART;TZID=America/Chicago:20220918T130000
DTEND;TZID=America/Chicago:20220918T170000
DTSTAMP:20260423T111513
CREATED:20220816T163653Z
LAST-MODIFIED:20220816T163653Z
UID:3078-1663506000-1663520400@mcdef.org
SUMMARY:The Environmental Defenders' Annual Bike Ride
DESCRIPTION:Sunday\, September 18 (Rain date: Sunday\, September 25) \nMeet at Towne Park\, Algonquin for RT ride \n1PM \n  \nJoin the Environmental Defenders’ Transportation Action Team as they cruise from Towne Park in Algonquin to East Dundee for a taste of local beer at Black and Gray Brewing. This roundtrip is about 12 miles of mostly easy\, flat terrain and includes the Prairie Trail in McHenry County and the Fox River Trail in Kane. On the way\, Defenders’ executive director will talk about points of interest\, including the milelong stretch of trail that has been adopted by our organization through the McHenry County Conservation District’s Adopt-a-Trail program as well as a bald eagle nesting area. Upon return we’ll have a look at new construction on Main Street Algonquin and future plans for a River Walk.
URL:https://mcdef.org/event/the-environmental-defenders-annual-bike-ride/
LOCATION:Towne Park\, 100 Jefferson St\, Algonquin\, IL\, 60102\, United States
CATEGORIES:Member Events,Outdoor Events,Outings,Transportation
ATTACH;FMTTYPE=image/jpeg:https://mcdef.org/wp-content/uploads/2022/02/bike-ride-1-e1660667684628.jpg
END:VEVENT
END:VCALENDAR